BEGIN:VCALENDAR
VERSION:2.0
PRODID:-//Port Sunlight Angling Club - ECPv6.15.20//NONSGML v1.0//EN
CALSCALE:GREGORIAN
METHOD:PUBLISH
X-ORIGINAL-URL:https://www.psac.co.uk
X-WR-CALDESC:Events for Port Sunlight Angling Club
REFRESH-INTERVAL;VALUE=DURATION:PT1H
X-Robots-Tag:noindex
X-PUBLISHED-TTL:PT1H
BEGIN:VTIMEZONE
TZID:UTC
BEGIN:STANDARD
TZOFFSETFROM:+0000
TZOFFSETTO:+0000
TZNAME:UTC
DTSTART:20250101T000000
END:STANDARD
END:VTIMEZONE
BEGIN:VEVENT
DTSTART;TZID=UTC:20260503T083000
DTEND;TZID=UTC:20260503T150000
DTSTAMP:20260424T072859
CREATED:20251226T194604Z
LAST-MODIFIED:20260421T092252Z
UID:12933-1777797000-1777820400@www.psac.co.uk
SUMMARY:Pairs Match at Weston Pools
DESCRIPTION:Pairs Match at Weston Pools\n\n\n\n20 Anglers split into pairs between Stretton & Weir Pools \n\n\n\n\n\n\n\n\n\nOpen to Members Only \n\n\n\nMaximum Participants – 20 (10 x Pairs) \n\n\n\nDraw at 8:30 at the venue. Fish from 10am to 3pm \n\n\n\nFurther details re draw for pairs to follow. \n\n\n\nA Non Returnable bank fee payable when booking. \n\n\n\n£13 per peg bank fee including a £1 donation to Claire House \n\n\n\n£10 Pools payable on the day \n\n\n\nWeston Cotton Farm\, Weston Lane\, Weston\, Oswestry SY10 9ER \n\n\n\nw3w ///shades.cared.detonated
URL:https://www.psac.co.uk/event/pairs-match-at-weston-pools/
LOCATION:Weston Pools\, Weston Pools\,\, Oswestry\, SY10 9ER\, United Kingdom
ATTACH;FMTTYPE=image/jpeg:https://www.psac.co.uk/wp-content/uploads/2025/01/Screenshot-2025-01-01-172941.jpg
END:VEVENT
BEGIN:VEVENT
DTSTART;TZID=UTC:20260506T083000
DTEND;TZID=UTC:20260506T130000
DTSTAMP:20260424T072859
CREATED:20251231T151642Z
LAST-MODIFIED:20251231T151643Z
UID:13077-1778056200-1778072400@www.psac.co.uk
SUMMARY:Official Work Party
DESCRIPTION:Official Work Party\n\n\n\n\n\n\n\n\n\nOfficial Work Party\, meet at the Benty Heath Car Park at 8:30am \n\n\n\nNo access to ponds or club car parks by Anglers until 4pm
URL:https://www.psac.co.uk/event/official-work-party-28/
LOCATION:Main Group Car Park\, Port Sunlight Angling Club\, Birkenhead\, CH64 1RY\, United Kingdom
ATTACH;FMTTYPE=image/jpeg:https://www.psac.co.uk/wp-content/uploads/2024/12/WhatsApp-Image-2022-04-22-at-4.11.32-PM-1.jpeg
END:VEVENT
BEGIN:VEVENT
DTSTART;TZID=UTC:20260510T083000
DTEND;TZID=UTC:20260510T150000
DTSTAMP:20260424T072859
CREATED:20260312T121251Z
LAST-MODIFIED:20260312T121253Z
UID:13310-1778401800-1778425200@www.psac.co.uk
SUMMARY:5th Spring Canal League Match
DESCRIPTION:5th Spring Canal League Match\n\n\n\nVenue to be confirmed \n\n\n\n\n\n\n\n\n\nOpen to Members\, Canal Permit Holders and Affiliated club members \n\n\n\nDraw at 8:30am at the Venue \n\n\n\nFishing from 10:00am to 3pm  \n\n\n\nTo be fished over six matches to be held every fortnight with individual’s five highest positions over all matches to count towards the final league result. \n\n\n\nAll participants will receive 1 point for taking part with the top ten results on the day receiving additional points from 10 to 1. \n\n\n\nFee will be £7 including the £1 donation to Claire House payable when booking through Clubmate and £6 on the day. (£5 pools and £1 held towards the final league result) \n\n\n\nAffiliated members to pay the full £7 on the day
URL:https://www.psac.co.uk/event/5th-spring-canal-league-match/
LOCATION:Shropshire Union Canal (Venue tbc)
ATTACH;FMTTYPE=image/jpeg:https://www.psac.co.uk/wp-content/uploads/2022/12/c5d343d8-4e04-45a1-9746-35d060bb444b.-1.jpg
ORGANIZER;CN="Brian Allen":MAILTO:Membership@portsunlightanglingclub.co.uk
END:VEVENT
BEGIN:VEVENT
DTSTART;TZID=UTC:20260517T080000
DTEND;TZID=UTC:20260517T130000
DTSTAMP:20260424T072859
CREATED:20251231T152055Z
LAST-MODIFIED:20251231T161340Z
UID:13080-1779004800-1779022800@www.psac.co.uk
SUMMARY:Official Work Party
DESCRIPTION:Official Work Party\n\n\n\n\n\n\n\n\n\nOfficial Work Party\, meet at the Benty Heath Car Park at 8:00am \n\n\n\nNo access to ponds or club car parks by Anglers until 4pm
URL:https://www.psac.co.uk/event/official-work-party-29/
LOCATION:Main Group Car Park\, Port Sunlight Angling Club\, Birkenhead\, CH64 1RY\, United Kingdom
ATTACH;FMTTYPE=image/jpeg:https://www.psac.co.uk/wp-content/uploads/2024/12/WhatsApp-Image-2022-04-22-at-4.11.32-PM-1.jpeg
END:VEVENT
BEGIN:VEVENT
DTSTART;TZID=UTC:20260524T083000
DTEND;TZID=UTC:20260524T150000
DTSTAMP:20260424T072859
CREATED:20260312T122128Z
LAST-MODIFIED:20260312T122131Z
UID:13313-1779611400-1779634800@www.psac.co.uk
SUMMARY:Final Spring Canal League Match
DESCRIPTION:Final Spring Canal League Match\n\n\n\nVenue to be confirmed \n\n\n\n\n\n\n\n\n\nOpen to Members\, Canal Permit Holders and Affiliated club members \n\n\n\nDraw at 8:30am at the Venue \n\n\n\nFishing from 10:00am to 3pm  \n\n\n\nTo be fished over six matches to be held every fortnight with individual’s five highest positions over all matches to count towards the final league result. \n\n\n\nAll participants will receive 1 point for taking part with the top ten results on the day receiving additional points from 10 to 1. \n\n\n\nFee will be £7 including the £1 donation to Claire House payable when booking through Clubmate and £6 on the day. (£5 pools and £1 held towards the final league result) \n\n\n\nAffiliated members to pay the full £7 on the day
URL:https://www.psac.co.uk/event/final-spring-canal-league-match/
LOCATION:Shropshire Union Canal (Venue tbc)
ATTACH;FMTTYPE=image/jpeg:https://www.psac.co.uk/wp-content/uploads/2022/12/c5d343d8-4e04-45a1-9746-35d060bb444b.-1.jpg
ORGANIZER;CN="Brian Allen":MAILTO:Membership@portsunlightanglingclub.co.uk
END:VEVENT
BEGIN:VEVENT
DTSTART;TZID=UTC:20260524T093000
DTEND;TZID=UTC:20260524T140300
DTSTAMP:20260424T072859
CREATED:20260418T121543Z
LAST-MODIFIED:20260418T123222Z
UID:13455-1779615000-1779631380@www.psac.co.uk
SUMMARY:Junior Canal Match
DESCRIPTION:Junior Canal Match\n\n\n\nShropshire Union Canal (Croughton Bridge No135) \n\n\n\n\n\n\n\n\n\nFull Junior Members Only \n\n\n\n15 pegs avaialable \n\n\n\nThe draw for pegs will take place at 9:30 am with fishing between 10:30am and 2:30pm \n\n\n\nParents must remain with their child sitting back a yard or two behind them. Assistance can be given but hooking and playing of fish must be done by the participant. \n\n\n\nPSAC Junior Match Guidance \n\n\n\nThere will be prizes for 1st\, 2nd & 3rd places
URL:https://www.psac.co.uk/event/junior-canal-match/
LOCATION:Shropshire Union Canal (Croughton Bridge No135)\, Wervin Rd\, Chester\, Chester\, CH2 4DA\, United Kingdom
ATTACH;FMTTYPE=image/jpeg:https://www.psac.co.uk/wp-content/uploads/2024/04/IMG_5098-scaled.jpeg
ORGANIZER;CN="Tony Fulton":MAILTO:acadamy@portsunlightanglingclub.co.uk
END:VEVENT
BEGIN:VEVENT
DTSTART;TZID=UTC:20260530T083000
DTEND;TZID=UTC:20260530T150000
DTSTAMP:20260424T072859
CREATED:20251227T142524Z
LAST-MODIFIED:20251227T220627Z
UID:12962-1780129800-1780153200@www.psac.co.uk
SUMMARY:Away Match (Lingmere)
DESCRIPTION:Away Match\, Lingmere. (Match Lake)\n\n\n\n\n\n\n\n\n\nOpen to Members Only \n\n\n\nMaximum Participants – 20 \n\n\n\nDraw at 8:30 at the venue. Fish from 10am to 4pm \n\n\n\nA Non Returnable bank fee payable when booking. \n\n\n\n£11 Bank fee including a £1 donation to Claire House \n\n\n\n£5 Pools payable on the day \n\n\n\n4TB\, Lingham Ln\, Moreton\, Birkenhead\, Wirral CH46 7UJ \n\n\n\nw3w ///green.move.shells
URL:https://www.psac.co.uk/event/away-match-lingmere/
LOCATION:Lingmere Fishery\, CV6F+798 Wirral\, United Kingdom
ATTACH;FMTTYPE=image/jpeg:https://www.psac.co.uk/wp-content/uploads/2025/01/Lingmere-Fishery-01.jpg
END:VEVENT
BEGIN:VEVENT
DTSTART;TZID=UTC:20260603T083000
DTEND;TZID=UTC:20260603T130000
DTSTAMP:20260424T072859
CREATED:20251231T152350Z
LAST-MODIFIED:20251231T152352Z
UID:13082-1780475400-1780491600@www.psac.co.uk
SUMMARY:Official Work Party
DESCRIPTION:Official Work Party\n\n\n\n\n\n\n\n\n\nOfficial Work Party\, meet at the Benty Heath Car Park at 8:30am \n\n\n\nNo access to ponds or club car parks by Anglers until 4pm
URL:https://www.psac.co.uk/event/official-work-party-30/
LOCATION:Main Group Car Park\, Port Sunlight Angling Club\, Birkenhead\, CH64 1RY\, United Kingdom
ATTACH;FMTTYPE=image/jpeg:https://www.psac.co.uk/wp-content/uploads/2024/12/WhatsApp-Image-2022-04-22-at-4.11.32-PM-1.jpeg
END:VEVENT
BEGIN:VEVENT
DTSTART;TZID=UTC:20260606T083000
DTEND;TZID=UTC:20260606T150000
DTSTAMP:20260424T072859
CREATED:20251227T144849Z
LAST-MODIFIED:20260122T185653Z
UID:12967-1780734600-1780758000@www.psac.co.uk
SUMMARY:Away Match (Cheshire Oaks)
DESCRIPTION:Away Match\, Cheshire Oaks. (Match Lake)\n\n\n\n\n\n\n\n\n\nOpen to Members Only \n\n\n\nMaximum Participants – 20 \n\n\n\nDraw at 8:30 at the venue. Fish from 10am to 3pm \n\n\n\nA Non Returnable bank fee payable when booking. \n\n\n\n£10 Bank fee including a £1 donation to Claire House \n\n\n\n£5 Pools payable on the day \n\n\n\nStrawberry Way West\, Backford\, Chester CH1 6PN  \n\n\n\nw3w ///area.myself.drama
URL:https://www.psac.co.uk/event/away-match-cheshire-oaks/
LOCATION:Cheshire Oakes Fisheries\, 734P+5V Chester\, United Kingdom
ATTACH;FMTTYPE=image/jpeg:https://www.psac.co.uk/wp-content/uploads/2025/12/Cheshire-Oakes.jpg
END:VEVENT
BEGIN:VEVENT
DTSTART;TZID=UTC:20260614T080000
DTEND;TZID=UTC:20260614T130000
DTSTAMP:20260424T072859
CREATED:20251231T153143Z
LAST-MODIFIED:20251231T161425Z
UID:13088-1781424000-1781442000@www.psac.co.uk
SUMMARY:Official Work Party
DESCRIPTION:Official work Party\n\n\n\n\n\n\n\n\n\nOfficial Work Party\, meet at the Benty Heath Car Park at 8:00am \n\n\n\nNo access to ponds or club car parks by Anglers until 4pm
URL:https://www.psac.co.uk/event/official-work-party-32/
LOCATION:Main Group Car Park\, Port Sunlight Angling Club\, Birkenhead\, CH64 1RY\, United Kingdom
ATTACH;FMTTYPE=image/jpeg:https://www.psac.co.uk/wp-content/uploads/2024/12/WhatsApp-Image-2022-04-22-at-4.11.32-PM-1.jpeg
END:VEVENT
BEGIN:VEVENT
DTSTART;TZID=UTC:20260628T083000
DTEND;TZID=UTC:20260628T150000
DTSTAMP:20260424T072859
CREATED:20251227T151424Z
LAST-MODIFIED:20251227T220323Z
UID:12976-1782635400-1782658800@www.psac.co.uk
SUMMARY:Away Match (Partridge Lakes)
DESCRIPTION:Away Match\, Partridge Lakes. (Covey 5)\n\n\n\n\n\n\n\n\n\nOpen to Members Only \n\n\n\nMaximum Participants – 20 \n\n\n\nDraw at 8:30 at the venue. Fish from 10am to 3pm \n\n\n\nA Non Returnable bank fee payable when booking. \n\n\n\n£13 Bank fee including a £1 donation to Claire House \n\n\n\n£5 Pools payable on the day \n\n\n\nPartridge Lakes Fishery\, Glaziers Lane\, Culcheth\, Warrington\, WA3 4AQ \n\n\n\nw3w ///dominate.negotiators.workforce
URL:https://www.psac.co.uk/event/away-match-partridge-lakes-3/
LOCATION:Partridge Lakes\, CFW9+Q9F Warrington\, United Kingdom
ATTACH;FMTTYPE=image/jpeg:https://www.psac.co.uk/wp-content/uploads/2023/01/Partridge-Lakes.jpg
END:VEVENT
BEGIN:VEVENT
DTSTART;TZID=UTC:20260701T083000
DTEND;TZID=UTC:20260701T130000
DTSTAMP:20260424T072859
CREATED:20251231T153445Z
LAST-MODIFIED:20251231T153447Z
UID:13090-1782894600-1782910800@www.psac.co.uk
SUMMARY:Official Work Party
DESCRIPTION:Official Work Party\n\n\n\n\n\n\n\n\n\nOfficial Work Party\, meet at the Benty Heath Car Park at 8:30am \n\n\n\nNo access to ponds or club car parks by Anglers until 4pm
URL:https://www.psac.co.uk/event/official-work-party-33/
LOCATION:Main Group Car Park\, Port Sunlight Angling Club\, Birkenhead\, CH64 1RY\, United Kingdom
ATTACH;FMTTYPE=image/jpeg:https://www.psac.co.uk/wp-content/uploads/2024/12/WhatsApp-Image-2022-04-22-at-4.11.32-PM-1.jpeg
END:VEVENT
BEGIN:VEVENT
DTSTART;TZID=UTC:20260705T083000
DTEND;TZID=UTC:20260705T150000
DTSTAMP:20260424T072859
CREATED:20251227T153401Z
LAST-MODIFIED:20251227T221618Z
UID:12980-1783240200-1783263600@www.psac.co.uk
SUMMARY:Away Match (Hall Lane Fishery)
DESCRIPTION:Away Match\, Hall Lane Fishery. (Bess’s)\n\n\n\n\n\n\n\n\n\nOpen to Members Only \n\n\n\nMaximum Participants – 20 \n\n\n\nDraw at 8:30 at the venue. Fish from 10am to 3pm \n\n\n\nA Non Returnable bank fee payable when booking. \n\n\n\n£11 Bank fee including a £1 donation to Claire House \n\n\n\n£5 Pools payable on the day \n\n\n\nHall Lane\, Parbold\, Wigan\, WN8 7BD \n\n\n\nw3w ///onlookers.evenings.harps
URL:https://www.psac.co.uk/event/away-match-hall-lane-fishery/
LOCATION:Hall Lane Fishery\, J64C+XPV Wigan
ATTACH;FMTTYPE=image/jpeg:https://www.psac.co.uk/wp-content/uploads/2025/12/Hall-Lane-collage-2.jpg
END:VEVENT
BEGIN:VEVENT
DTSTART;TZID=UTC:20260712T080000
DTEND;TZID=UTC:20260712T130000
DTSTAMP:20260424T072859
CREATED:20251231T153756Z
LAST-MODIFIED:20251231T161508Z
UID:13092-1783843200-1783861200@www.psac.co.uk
SUMMARY:Official Work Party
DESCRIPTION:Official Work Party\n\n\n\n\n\n\n\n\n\nOfficial Work Party\, meet at the Benty Heath Car Park at 8:00am \n\n\n\nNo access to ponds or club car parks by Anglers until 4pm
URL:https://www.psac.co.uk/event/official-work-party-34/
LOCATION:Main Group Car Park\, Port Sunlight Angling Club\, Birkenhead\, CH64 1RY\, United Kingdom
ATTACH;FMTTYPE=image/jpeg:https://www.psac.co.uk/wp-content/uploads/2024/12/WhatsApp-Image-2022-04-22-at-4.11.32-PM-1.jpeg
END:VEVENT
BEGIN:VEVENT
DTSTART;TZID=UTC:20260726T083000
DTEND;TZID=UTC:20260726T150000
DTSTAMP:20260424T072859
CREATED:20251227T154931Z
LAST-MODIFIED:20251227T154954Z
UID:12988-1785054600-1785078000@www.psac.co.uk
SUMMARY:Away Match (Syamore Fishery)
DESCRIPTION:Away Match\, Syamore Fishery. (Rowan)\n\n\n\n\n\n\n\n\n\nOpen to Members Only \n\n\n\nMaximum Participants – 16 \n\n\n\nDraw at 8:30 at the venue. Fish from 10am to 3pm \n\n\n\nA Non Returnable bank fee payable when booking. \n\n\n\n£10 Bank fee including a £1 donation to Claire House \n\n\n\n£5 Pools payable on the day \n\n\n\nAshton Rd\, Farm\, Golborne\, Warrington WA3 3UU \n\n\n\nw3w ///mice.value.sobs
URL:https://www.psac.co.uk/event/away-match-syamore-fishery/
LOCATION:Sycamore Fisheries\, F9PV+7M4 Warrington
ATTACH;FMTTYPE=image/jpeg:https://www.psac.co.uk/wp-content/uploads/2025/12/Sycamore-Rowan.jpg
END:VEVENT
BEGIN:VEVENT
DTSTART;TZID=UTC:20260805T083000
DTEND;TZID=UTC:20260805T130000
DTSTAMP:20260424T072859
CREATED:20251231T154119Z
LAST-MODIFIED:20251231T154125Z
UID:13094-1785918600-1785934800@www.psac.co.uk
SUMMARY:Official Work Party
DESCRIPTION:Official Work Party\n\n\n\n\n\n\n\n\n\nOfficial Work Party\, meet at the Benty Heath Car Park at 8:30am \n\n\n\nNo access to ponds or club car parks by Anglers until 4pm
URL:https://www.psac.co.uk/event/official-work-party-35/
LOCATION:Main Group Car Park\, Port Sunlight Angling Club\, Birkenhead\, CH64 1RY\, United Kingdom
ATTACH;FMTTYPE=image/jpeg:https://www.psac.co.uk/wp-content/uploads/2024/12/WhatsApp-Image-2022-04-22-at-4.11.32-PM-1.jpeg
END:VEVENT
BEGIN:VEVENT
DTSTART;TZID=UTC:20260809T083000
DTEND;TZID=UTC:20260809T150000
DTSTAMP:20260424T072859
CREATED:20251227T160823Z
LAST-MODIFIED:20251227T160844Z
UID:12997-1786264200-1786287600@www.psac.co.uk
SUMMARY:Pairs Match (Stamford Way Fishery)
DESCRIPTION:Pairs Match\, Stamford Way Fishery. (Both Lakes)\n\n\n\n20 Anglers split into pairs between both lakes \n\n\n\n\n\n\n\n\n\nOpen to Members Only \n\n\n\nMaximum Participants – 20 (10 x Pairs) \n\n\n\nDraw at 8:30 at the venue. Fish from 10am to 3pm \n\n\n\nA Non Returnable bank fee payable when booking. \n\n\n\n£13 per peg bank fee including a £1 donation to Claire House \n\n\n\n£5 Pools payable on the day \n\n\n\nStamford Way\, Ewloe\, Deeside CH5 3BZ \n\n\n\nw3w ///croaking.bundles.animate
URL:https://www.psac.co.uk/event/pairs-match-stamford-way-fishery/
LOCATION:Stamford way Fishery\, 5WXG+CHH Deeside
ATTACH;FMTTYPE=image/jpeg:https://www.psac.co.uk/wp-content/uploads/2025/12/stamford-way-twin-oaks-pools.jpg
END:VEVENT
BEGIN:VEVENT
DTSTART;TZID=UTC:20260823T080000
DTEND;TZID=UTC:20260823T130000
DTSTAMP:20260424T072859
CREATED:20251231T154403Z
LAST-MODIFIED:20251231T161609Z
UID:13096-1787472000-1787490000@www.psac.co.uk
SUMMARY:Official Work Party
DESCRIPTION:Official work Party\n\n\n\n\n\n\n\n\n\nOfficial Work Party\, meet at the Benty Heath Car Park at 8:00am \n\n\n\nNo access to ponds or club car parks by Anglers until 4pm
URL:https://www.psac.co.uk/event/official-work-party-36/
LOCATION:Main Group Car Park\, Port Sunlight Angling Club\, Birkenhead\, CH64 1RY\, United Kingdom
ATTACH;FMTTYPE=image/jpeg:https://www.psac.co.uk/wp-content/uploads/2024/12/WhatsApp-Image-2022-04-22-at-4.11.32-PM-1.jpeg
END:VEVENT
BEGIN:VEVENT
DTSTART;TZID=UTC:20260823T083000
DTEND;TZID=UTC:20260823T150000
DTSTAMP:20260424T072859
CREATED:20251227T162331Z
LAST-MODIFIED:20251227T162333Z
UID:13005-1787473800-1787497200@www.psac.co.uk
SUMMARY:Away Match (High Heyes Farm Fishery)
DESCRIPTION:Away Match\, High Heyes Farm Fishery (Lake1)\n\n\n\n\n\n\n\n\n\nOpen to Members Only \n\n\n\nMaximum Participants – 20 \n\n\n\nDraw at 8:30 at the venue. Fish from 10am to 3pm \n\n\n\nA Non Returnable bank fee payable when booking. \n\n\n\n£11 Bank fee including a £1 donation to Claire House \n\n\n\n£5 Pools payable on the day \n\n\n\nHigh Heyes Farm\, Langton Brow\, Eccleston\, Chorley PR7 5PB \n\n\n\nw3w ///vine.yawned.relishes
URL:https://www.psac.co.uk/event/away-match-high-heyes-farm-fishery/
LOCATION:High Heyes Farm Fishery\, J7RQ+2C7 Chorley
ATTACH;FMTTYPE=image/jpeg:https://www.psac.co.uk/wp-content/uploads/2025/12/high-heyes-farm.jpg
END:VEVENT
BEGIN:VEVENT
DTSTART;TZID=UTC:20260902T083000
DTEND;TZID=UTC:20260902T130000
DTSTAMP:20260424T072859
CREATED:20251231T154659Z
LAST-MODIFIED:20251231T154701Z
UID:13098-1788337800-1788354000@www.psac.co.uk
SUMMARY:Official Work Party
DESCRIPTION:Official Work Party\n\n\n\n\n\n\n\n\n\nOfficial Work Party\, meet at the Benty Heath Car Park at 8:30am \n\n\n\nNo access to ponds or club car parks by Anglers until 4pm
URL:https://www.psac.co.uk/event/official-work-party-37/
LOCATION:Main Group Car Park\, Port Sunlight Angling Club\, Birkenhead\, CH64 1RY\, United Kingdom
ATTACH;FMTTYPE=image/jpeg:https://www.psac.co.uk/wp-content/uploads/2024/12/WhatsApp-Image-2022-04-22-at-4.11.32-PM-1.jpeg
END:VEVENT
BEGIN:VEVENT
DTSTART;TZID=UTC:20260912T083000
DTEND;TZID=UTC:20260912T150000
DTSTAMP:20260424T072859
CREATED:20251227T163446Z
LAST-MODIFIED:20251227T215956Z
UID:13013-1789201800-1789225200@www.psac.co.uk
SUMMARY:Away Match (Partridge Lakes)
DESCRIPTION:Away Match\, Partridge Lakes. (Covey 5)\n\n\n\n\n\n\n\n\n\nOpen to Members Only \n\n\n\nMaximum Participants – 20 \n\n\n\nDraw at 8:30 at the venue. Fish from 10am to 3pm \n\n\n\nA Non Returnable bank fee payable when booking. \n\n\n\n£13 Bank fee including a £1 donation to Claire House \n\n\n\n£5 Pools payable on the day \n\n\n\nPartridge Lakes Fishery\, Glaziers Lane\, Culcheth\, Warrington\, WA3 4AQ \n\n\n\nw3w ///dominate.negotiators.workforce
URL:https://www.psac.co.uk/event/away-match-partridge-lakes-4/
LOCATION:Partridge Lakes\, CFW9+Q9F Warrington\, United Kingdom
ATTACH;FMTTYPE=image/jpeg:https://www.psac.co.uk/wp-content/uploads/2023/01/Partridge-Lakes.jpg
END:VEVENT
BEGIN:VEVENT
DTSTART;TZID=UTC:20260920T080000
DTEND;TZID=UTC:20260920T130000
DTSTAMP:20260424T072859
CREATED:20251231T155120Z
LAST-MODIFIED:20251231T161655Z
UID:13100-1789891200-1789909200@www.psac.co.uk
SUMMARY:Official Work Party
DESCRIPTION:Official Work Party\n\n\n\n\n\n\n\n\n\nOfficial Work Party\, meet at the Benty Heath Car Park at 8:00am \n\n\n\nNo access to ponds or club car parks by Anglers until 4pm
URL:https://www.psac.co.uk/event/official-work-party-38/
LOCATION:Main Group Car Park\, Port Sunlight Angling Club\, Birkenhead\, CH64 1RY\, United Kingdom
ATTACH;FMTTYPE=image/jpeg:https://www.psac.co.uk/wp-content/uploads/2024/12/WhatsApp-Image-2022-04-22-at-4.11.32-PM-1.jpeg
END:VEVENT
BEGIN:VEVENT
DTSTART;TZID=UTC:20260927T084500
DTEND;TZID=UTC:20260927T150000
DTSTAMP:20260424T072859
CREATED:20251228T215215Z
LAST-MODIFIED:20251228T215804Z
UID:13028-1790498700-1790521200@www.psac.co.uk
SUMMARY:Firemans Pool Closed (Match)
DESCRIPTION:PSAC Home Match (Firemans Pool)\n\n\n\n\n\n\n\n\n\n\n\nOpen to Members only \n\n\n\nDraw at 8:45 at the Fireman’s Car Park \n\n\n\nFishing From 10am to 3pm \n\n\n\n£5 Pools payable at the Venue
URL:https://www.psac.co.uk/event/home-match/
LOCATION:Firemans Pool\, 7 Hooton Road\, Willaston\, CH64 1SR\, United Kingdom
ATTACH;FMTTYPE=image/jpeg:https://www.psac.co.uk/wp-content/uploads/2022/12/ce434cc9-a0d0-427d-898a-c61a42072f60..jpg
END:VEVENT
BEGIN:VEVENT
DTSTART;TZID=UTC:20261007T083000
DTEND;TZID=UTC:20261007T130000
DTSTAMP:20260424T072859
CREATED:20251231T155428Z
LAST-MODIFIED:20251231T155430Z
UID:13102-1791361800-1791378000@www.psac.co.uk
SUMMARY:Official Work Party
DESCRIPTION:Official Work Party\n\n\n\n\n\n\n\n\n\nOfficial Work Party\, meet at the Benty Heath Car Park at 8:30am \n\n\n\nNo access to ponds or club car parks by Anglers until 4pm
URL:https://www.psac.co.uk/event/official-work-party-39/
LOCATION:Main Group Car Park\, Port Sunlight Angling Club\, Birkenhead\, CH64 1RY\, United Kingdom
ATTACH;FMTTYPE=image/jpeg:https://www.psac.co.uk/wp-content/uploads/2024/12/WhatsApp-Image-2022-04-22-at-4.11.32-PM-1.jpeg
END:VEVENT
BEGIN:VEVENT
DTSTART;TZID=UTC:20261011T084500
DTEND;TZID=UTC:20261011T150000
DTSTAMP:20260424T072859
CREATED:20251228T220324Z
LAST-MODIFIED:20251228T220326Z
UID:13032-1791708300-1791730800@www.psac.co.uk
SUMMARY:Firemans Pool Closed (Match)
DESCRIPTION:PSAC Home Match (Firemans Pool)\n\n\n\n\n\n\n\n\n\nOpen to Members only \n\n\n\nDraw at 8:45 at the Fireman’s Car Park \n\n\n\nFishing From 10am to 3pm \n\n\n\n£5 Pools payable at the Venue
URL:https://www.psac.co.uk/event/firemans-pool-closed-match-13/
LOCATION:Firemans Pool\, 7 Hooton Road\, Willaston\, CH64 1SR\, United Kingdom
ATTACH;FMTTYPE=image/jpeg:https://www.psac.co.uk/wp-content/uploads/2022/12/ce434cc9-a0d0-427d-898a-c61a42072f60..jpg
END:VEVENT
BEGIN:VEVENT
DTSTART;TZID=UTC:20261018T080000
DTEND;TZID=UTC:20261018T130000
DTSTAMP:20260424T072859
CREATED:20251231T155708Z
LAST-MODIFIED:20251231T161746Z
UID:13104-1792310400-1792328400@www.psac.co.uk
SUMMARY:Official Work Party
DESCRIPTION:Official Work Party\n\n\n\n\n\n\n\n\n\nOfficial Work Party\, meet at the Benty Heath Car Park at 8:00am \n\n\n\nNo access to ponds or club car parks by Anglers until 4pm
URL:https://www.psac.co.uk/event/official-work-party-40/
LOCATION:Main Group Car Park\, Port Sunlight Angling Club\, Birkenhead\, CH64 1RY\, United Kingdom
ATTACH;FMTTYPE=image/jpeg:https://www.psac.co.uk/wp-content/uploads/2024/12/WhatsApp-Image-2022-04-22-at-4.11.32-PM-1.jpeg
END:VEVENT
BEGIN:VEVENT
DTSTART;TZID=UTC:20261024T083000
DTEND;TZID=UTC:20261024T150000
DTSTAMP:20260424T072859
CREATED:20251228T222513Z
LAST-MODIFIED:20251228T230036Z
UID:13035-1792830600-1792854000@www.psac.co.uk
SUMMARY:Away Match (Fir Tree Fishery)
DESCRIPTION:Away Match\, Fir Tree Fishery. (Nookie Hollow)\n\n\n\n\n\n\n\n\n\nOpen to Members Only \n\n\n\nMaximum Participants – 20 \n\n\n\nDraw at 8:30 at the venue. Fish from 10am to 3pm \n\n\n\nA Non Returnable bank fee payable when booking. \n\n\n\n£11 Bank fee including a £1 donation to Claire House \n\n\n\n£5 Pools payable on the day \n\n\n\nThe Nook\, Appley Bridge\, Shevington\, Wigan WN6 9JB \n\n\n\nw3w ///calendars.liners.rinse
URL:https://www.psac.co.uk/event/away-match-fir-tree-fishery/
LOCATION:Fir Tree Fishery\, H7GV+MH Wigan
ATTACH;FMTTYPE=image/jpeg:https://www.psac.co.uk/wp-content/uploads/2025/12/Fir-Tree.jpeg
END:VEVENT
BEGIN:VEVENT
DTSTART;TZID=UTC:20261101T083000
DTEND;TZID=UTC:20261101T150000
DTSTAMP:20260424T072859
CREATED:20251228T224200Z
LAST-MODIFIED:20251228T225950Z
UID:13042-1793521800-1793545200@www.psac.co.uk
SUMMARY:Away Match (Mere Lane Fishery)
DESCRIPTION:Away Match\, Mere Lane Fishery. (Doughnut Lake)\n\n\n\n\n\n\n\n\n\nOpen to Members Only \n\n\n\nMaximum Participants – 20 \n\n\n\nDraw at 8:30 at the venue. Fish from 10am to 3pm \n\n\n\nA Non Returnable bank fee payable when booking. \n\n\n\n£11 Bank fee including a £1 donation to Claire House \n\n\n\n£5 Pools payable on the day \n\n\n\nMere Farm\, Mere Lane\, Preston PR4 6JU \n\n\n\nw3w ///compiler.fats.wording
URL:https://www.psac.co.uk/event/away-match-mere-lane-fishery/
LOCATION:Mere Lane Fishery\, M42C+72 Preston
ATTACH;FMTTYPE=image/jpeg:https://www.psac.co.uk/wp-content/uploads/2025/12/Mere-Lane-Doughnut-Lake.jpg
END:VEVENT
BEGIN:VEVENT
DTSTART;TZID=UTC:20261104T083000
DTEND;TZID=UTC:20261104T130000
DTSTAMP:20260424T072859
CREATED:20251231T155932Z
LAST-MODIFIED:20251231T155934Z
UID:13106-1793781000-1793797200@www.psac.co.uk
SUMMARY:Official Work Party
DESCRIPTION:Official Work Party\n\n\n\n\n\n\n\n\n\nOfficial Work Party\, meet at the Benty Heath Car Park at 8:30am \n\n\n\nNo access to ponds or club car parks by Anglers until 4pm
URL:https://www.psac.co.uk/event/official-work-party-41/
LOCATION:Main Group Car Park\, Port Sunlight Angling Club\, Birkenhead\, CH64 1RY\, United Kingdom
ATTACH;FMTTYPE=image/jpeg:https://www.psac.co.uk/wp-content/uploads/2024/12/WhatsApp-Image-2022-04-22-at-4.11.32-PM-1.jpeg
END:VEVENT
BEGIN:VEVENT
DTSTART;TZID=UTC:20261115T080000
DTEND;TZID=UTC:20261115T130000
DTSTAMP:20260424T072859
CREATED:20251231T160200Z
LAST-MODIFIED:20251231T161827Z
UID:13108-1794729600-1794747600@www.psac.co.uk
SUMMARY:Official Work Party
DESCRIPTION:Official Work Party\n\n\n\n\n\n\n\n\n\nOfficial Work Party\, meet at the Benty Heath Car Park at 8:00am \n\n\n\nNo access to ponds or club car parks by Anglers until 4pm
URL:https://www.psac.co.uk/event/official-work-party-42/
LOCATION:Main Group Car Park\, Port Sunlight Angling Club\, Birkenhead\, CH64 1RY\, United Kingdom
ATTACH;FMTTYPE=image/jpeg:https://www.psac.co.uk/wp-content/uploads/2024/12/WhatsApp-Image-2022-04-22-at-4.11.32-PM-1.jpeg
END:VEVENT
END:VCALENDAR